BEGIN:VCALENDAR
VERSION:2.0
PRODID:-//The Borough of Keansburg - ECPv6.15.17//NONSGML v1.0//EN
CALSCALE:GREGORIAN
METHOD:PUBLISH
X-ORIGINAL-URL:https://keansburgnj.gov
X-WR-CALDESC:Events for The Borough of Keansburg
REFRESH-INTERVAL;VALUE=DURATION:PT1H
X-Robots-Tag:noindex
X-PUBLISHED-TTL:PT1H
BEGIN:VTIMEZONE
TZID:America/New_York
BEGIN:DAYLIGHT
TZOFFSETFROM:-0500
TZOFFSETTO:-0400
TZNAME:EDT
DTSTART:20180311T070000
END:DAYLIGHT
BEGIN:STANDARD
TZOFFSETFROM:-0400
TZOFFSETTO:-0500
TZNAME:EST
DTSTART:20181104T060000
END:STANDARD
BEGIN:DAYLIGHT
TZOFFSETFROM:-0500
TZOFFSETTO:-0400
TZNAME:EDT
DTSTART:20190310T070000
END:DAYLIGHT
BEGIN:STANDARD
TZOFFSETFROM:-0400
TZOFFSETTO:-0500
TZNAME:EST
DTSTART:20191103T060000
END:STANDARD
BEGIN:DAYLIGHT
TZOFFSETFROM:-0500
TZOFFSETTO:-0400
TZNAME:EDT
DTSTART:20200308T070000
END:DAYLIGHT
BEGIN:STANDARD
TZOFFSETFROM:-0400
TZOFFSETTO:-0500
TZNAME:EST
DTSTART:20201101T060000
END:STANDARD
END:VTIMEZONE
BEGIN:VEVENT
DTSTART;TZID=America/New_York:20190704T160000
DTEND;TZID=America/New_York:20190704T173000
DTSTAMP:20260424T170711
CREATED:20190509T022159Z
LAST-MODIFIED:20190509T022315Z
UID:2381-1562256000-1562261400@keansburgnj.gov
SUMMARY:FIREWORKS at Dusk
DESCRIPTION:Annual 4th of July Firework Display  \nsponsored by the Keansburg Amusement Park  \n 
URL:https://keansburgnj.gov/keansburg-event/fireworks-at-dusk/
CATEGORIES:Business Community
END:VEVENT
END:VCALENDAR