BEGIN:VCALENDAR
VERSION:2.0
PRODID:-//The Borough of Keansburg - ECPv6.15.17//NONSGML v1.0//EN
CALSCALE:GREGORIAN
METHOD:PUBLISH
X-WR-CALNAME:The Borough of Keansburg
X-ORIGINAL-URL:https://keansburgnj.gov
X-WR-CALDESC:Events for The Borough of Keansburg
REFRESH-INTERVAL;VALUE=DURATION:PT1H
X-Robots-Tag:noindex
X-PUBLISHED-TTL:PT1H
BEGIN:VTIMEZONE
TZID:America/New_York
BEGIN:DAYLIGHT
TZOFFSETFROM:-0500
TZOFFSETTO:-0400
TZNAME:EDT
DTSTART:20160313T070000
END:DAYLIGHT
BEGIN:STANDARD
TZOFFSETFROM:-0400
TZOFFSETTO:-0500
TZNAME:EST
DTSTART:20161106T060000
END:STANDARD
BEGIN:DAYLIGHT
TZOFFSETFROM:-0500
TZOFFSETTO:-0400
TZNAME:EDT
DTSTART:20170312T070000
END:DAYLIGHT
BEGIN:STANDARD
TZOFFSETFROM:-0400
TZOFFSETTO:-0500
TZNAME:EST
DTSTART:20171105T060000
END:STANDARD
BEGIN:DAYLIGHT
TZOFFSETFROM:-0500
TZOFFSETTO:-0400
TZNAME:EDT
DTSTART:20180311T070000
END:DAYLIGHT
BEGIN:STANDARD
TZOFFSETFROM:-0400
TZOFFSETTO:-0500
TZNAME:EST
DTSTART:20181104T060000
END:STANDARD
BEGIN:DAYLIGHT
TZOFFSETFROM:-0500
TZOFFSETTO:-0400
TZNAME:EDT
DTSTART:20190310T070000
END:DAYLIGHT
BEGIN:STANDARD
TZOFFSETFROM:-0400
TZOFFSETTO:-0500
TZNAME:EST
DTSTART:20191103T060000
END:STANDARD
BEGIN:DAYLIGHT
TZOFFSETFROM:-0500
TZOFFSETTO:-0400
TZNAME:EDT
DTSTART:20200308T070000
END:DAYLIGHT
BEGIN:STANDARD
TZOFFSETFROM:-0400
TZOFFSETTO:-0500
TZNAME:EST
DTSTART:20201101T060000
END:STANDARD
END:VTIMEZONE
BEGIN:VEVENT
DTSTART;TZID=America/New_York:20190806T153000
DTEND;TZID=America/New_York:20190806T173000
DTSTAMP:20260424T203728
CREATED:20190509T014620Z
LAST-MODIFIED:20190509T014620Z
UID:2366-1565105400-1565112600@keansburgnj.gov
SUMMARY:Movies on the Beach
DESCRIPTION:Baywalk East at Beachway and Main Street at dusk.  \nBring a chair or blanket.  \n\n\n\n\n2019 Schedule\n \nBoss Baby\nAugust 6\n\n\nHotel Translyvania 3\nJuly 16\nThe Little Mermaid\nAugust 13\n\n\nRalph Breaks the Internet\nJuly 23\nThe Goonies\nAugust 20\n\n\nAquaman\nJuly 30\nDirty Dancing\nAugust 27
URL:https://keansburgnj.gov/keansburg-event/movies-on-the-beach-6/
LOCATION:NJ
CATEGORIES:Recreation Committee
END:VEVENT
BEGIN:VEVENT
DTSTART;TZID=America/New_York:20190802T150000
DTEND;TZID=America/New_York:20190802T150000
DTSTAMP:20260424T203728
CREATED:20190802T233709Z
LAST-MODIFIED:20190509T011115Z
UID:2082-1564758000-1564758000@keansburgnj.gov
SUMMARY:2019 Concerts on the Beach
DESCRIPTION:2019 Summer Concert Series \n7 pm to 9 pm – Baywalk East\, 1 Beachway\, Keansburg \nBring a Chair or Blanket \n\n\n\n7800 Fahrenheit\nJuly 5\nAsbury Fever\nAugust 2\n\n\nSoul Stirrers\nJuly 12\nKickback Band\nAugust 9\n\n\nWhite Wedding Band\nJuly 19\nJimmy Shoez & the Magoos\nAugust 16\n\n\nThe Kootz\nJuly 26\nCity Hicks\nAugust 23
URL:https://keansburgnj.gov/keansburg-event/concerts-on-the-beach-4/
LOCATION:NJ
CATEGORIES:Recreation Committee
END:VEVENT
BEGIN:VEVENT
DTSTART;TZID=America/New_York:20190730T153000
DTEND;TZID=America/New_York:20190730T173000
DTSTAMP:20260424T203728
CREATED:20190509T014510Z
LAST-MODIFIED:20190509T014510Z
UID:2364-1564500600-1564507800@keansburgnj.gov
SUMMARY:Movies on the Beach
DESCRIPTION:Baywalk East at Beachway and Main Street at dusk.  \nBring a chair or blanket.  \n\n\n\n\n2019 Schedule\n \nBoss Baby\nAugust 6\n\n\nHotel Translyvania 3\nJuly 16\nThe Little Mermaid\nAugust 13\n\n\nRalph Breaks the Internet\nJuly 23\nThe Goonies\nAugust 20\n\n\nAquaman\nJuly 30\nDirty Dancing\nAugust 27
URL:https://keansburgnj.gov/keansburg-event/movies-on-the-beach-5/
LOCATION:NJ
CATEGORIES:Recreation Committee
END:VEVENT
BEGIN:VEVENT
DTSTART;TZID=America/New_York:20190726T140000
DTEND;TZID=America/New_York:20190726T140000
DTSTAMP:20260424T203728
CREATED:20180706T004211Z
LAST-MODIFIED:20190509T011156Z
UID:1468-1564149600-1564149600@keansburgnj.gov
SUMMARY:2019 Summer Concert Series
DESCRIPTION:2019 Summer Concert Series \n7 pm to 9 pm – Baywalk East\, 1 Beachway\, Keansburg \nBring a Chair or Blanket \n\n\n\n7800 Fahrenheit\nJuly 5\nAsbury Fever\nAugust 2\n\n\nSoul Stirrers\nJuly 12\nKickback Band\nAugust 9\n\n\nWhite Wedding Band\nJuly 19\nJimmy Shoez & the Magoos\nAugust 16\n\n\nThe Kootz\nJuly 26\nCity Hicks\nAugust 23
URL:https://keansburgnj.gov/keansburg-event/concert-series-2016/
LOCATION:NJ
CATEGORIES:Recreation Committee
END:VEVENT
BEGIN:VEVENT
DTSTART;TZID=America/New_York:20190723T153000
DTEND;TZID=America/New_York:20190723T173000
DTSTAMP:20260424T203728
CREATED:20190509T014427Z
LAST-MODIFIED:20190509T014427Z
UID:2362-1563895800-1563903000@keansburgnj.gov
SUMMARY:Movies on the Beach
DESCRIPTION:Baywalk East at Beachway and Main Street at dusk.  \nBring a chair or blanket.  \n\n\n\n\n2019 Schedule\n \nBoss Baby\nAugust 6\n\n\nHotel Translyvania 3\nJuly 16\nThe Little Mermaid\nAugust 13\n\n\nRalph Breaks the Internet\nJuly 23\nThe Goonies\nAugust 20\n\n\nAquaman\nJuly 30\nDirty Dancing\nAugust 27
URL:https://keansburgnj.gov/keansburg-event/movies-on-the-beach/
LOCATION:NJ
CATEGORIES:Recreation Committee
END:VEVENT
BEGIN:VEVENT
DTSTART;TZID=America/New_York:20190719T150000
DTEND;TZID=America/New_York:20190719T170000
DTSTAMP:20260424T203728
CREATED:20190509T011727Z
LAST-MODIFIED:20190509T011727Z
UID:2346-1563548400-1563555600@keansburgnj.gov
SUMMARY:2019 Summer Concert Series
DESCRIPTION:2019 Summer Concert Series \n7 pm to 9 pm – Baywalk East\, 1 Beachway\, Keansburg \nBring a Chair or Blanket \n\n\n\n7800 Fahrenheit\nJuly 5\nAsbury Fever\nAugust 2\n\n\nSoul Stirrers\nJuly 12\nKickback Band\nAugust 9\n\n\nWhite Wedding Band\nJuly 19\nJimmy Shoez & the Magoos\nAugust 16\n\n\nThe Kootz\nJuly 26\nCity Hicks\nAugust 23
URL:https://keansburgnj.gov/keansburg-event/2019-summer-concert-series-3/
LOCATION:NJ
CATEGORIES:Recreation Committee
END:VEVENT
BEGIN:VEVENT
DTSTART;TZID=America/New_York:20190716T150000
DTEND;TZID=America/New_York:20190716T170000
DTSTAMP:20260424T203728
CREATED:20180726T234542Z
LAST-MODIFIED:20190509T014344Z
UID:2096-1563289200-1563296400@keansburgnj.gov
SUMMARY:Movies on the Beach
DESCRIPTION:Baywalk East at Beachway and Main Street at dusk.  \nBring a chair or blanket.  \n\n\n\n\n2019 Schedule\n \nBoss Baby\nAugust 6\n\n\nHotel Translyvania 3\nJuly 16\nThe Little Mermaid\nAugust 13\n\n\nRalph Breaks the Internet\nJuly 23\nThe Goonies\nAugust 20\n\n\nAquaman\nJuly 30\nDirty Dancing\nAugust 27\n\n\n\n\n+ GOOGLE CALENDAR+ ICAL EXPORT
URL:https://keansburgnj.gov/keansburg-event/movies-on-the-beach-4/
LOCATION:NJ
CATEGORIES:Recreation Committee
END:VEVENT
BEGIN:VEVENT
DTSTART;TZID=America/New_York:20190712T150000
DTEND;TZID=America/New_York:20190712T170000
DTSTAMP:20260424T203728
CREATED:20190508T014425Z
LAST-MODIFIED:20190508T015230Z
UID:2302-1562943600-1562950800@keansburgnj.gov
SUMMARY:2019 Summer Concert Series
DESCRIPTION:2019 Summer Concert Series \n7 pm to 9 pm – Baywalk East\, 1 Beachway\, Keansburg \nBring a Chair or Blanket \n\n\n\n7800 Fahrenheit\nJuly 5\nAsbury Fever\nAugust 2\n\n\nSoul Stirrers\nJuly 12\nKickback Band\nAugust 9\n\n\nWhite Wedding Band\nJuly 19\nJimmy Shoez & the Magoos\nAugust 16\n\n\nThe Kootz\nJuly 26\nCity Hicks\nAugust 23
URL:https://keansburgnj.gov/keansburg-event/2019-summer-concert-series/
LOCATION:Baywalk East\, 1 Beachway\, Keansburg\, NJ\, 07734\, United States
CATEGORIES:Recreation Committee
END:VEVENT
BEGIN:VEVENT
DTSTART;TZID=America/New_York:20190705T150000
DTEND;TZID=America/New_York:20190705T170000
DTSTAMP:20260424T203728
CREATED:20190508T015403Z
LAST-MODIFIED:20190509T004126Z
UID:2310-1562338800-1562346000@keansburgnj.gov
SUMMARY:2019 Summer Concert Series
DESCRIPTION:2019 Summer Concert Series \n7 pm to 9 pm – Baywalk East\, 1 Beachway\, Keansburg \nBring a Chair or Blanket \n\n\n\n7800 Fahrenheit\nJuly 5\nAsbury Fever\nAugust 2\n\n\nSoul Stirrers\nJuly 12\nKickback Band\nAugust 9\n\n\nWhite Wedding Band\nJuly 19\nJimmy Shoez & the Magoos\nAugust 16\n\n\nThe Kootz\nJuly 26\nCity Hicks\nAugust 23
URL:https://keansburgnj.gov/keansburg-event/2019-summer-concert-series-2/
LOCATION:Baywalk East\, 1 Beachway\, Keansburg\, NJ\, 07734\, United States
CATEGORIES:Recreation Committee
END:VEVENT
BEGIN:VEVENT
DTSTART;TZID=America/New_York:20190629T060000
DTEND;TZID=America/New_York:20190629T060000
DTSTAMP:20260424T203728
CREATED:20170627T204020Z
LAST-MODIFIED:20190509T022128Z
UID:1779-1561788000-1561788000@keansburgnj.gov
SUMMARY:Family Fun Fest
DESCRIPTION:Holiday Events to be held at Baywalk East all weekend \nJune 29\, 2019 \nFIREWORKS AT DUSK \n 
URL:https://keansburgnj.gov/keansburg-event/family-fun-fest/
LOCATION:NJ
CATEGORIES:Recreation Committee
END:VEVENT
BEGIN:VEVENT
DTSTART;TZID=America/New_York:20190629T040000
DTEND;TZID=America/New_York:20190629T130000
DTSTAMP:20260424T203728
CREATED:20190509T022505Z
LAST-MODIFIED:20190509T022505Z
UID:2384-1561780800-1561813200@keansburgnj.gov
SUMMARY:FIREWORKS at dusk
DESCRIPTION:Family Fun Fest Firework Display \nat dusk \n 
URL:https://keansburgnj.gov/keansburg-event/fireworks-at-dusk-2/
LOCATION:NJ
CATEGORIES:Recreation Committee
END:VEVENT
BEGIN:VEVENT
DTSTART;TZID=America/New_York:20190518T100000
DTEND;TZID=America/New_York:20190518T150000
DTSTAMP:20260424T203728
CREATED:20190508T014144Z
LAST-MODIFIED:20190508T014801Z
UID:2294-1558173600-1558191600@keansburgnj.gov
SUMMARY:Taste of Spring - Food Truck and Craft Beer Fest May 18
DESCRIPTION:3rd Annual Food Truck and Craft Beer Fest \nBattle of the Bands \nMay 18\, 2019 – 2pm to 7pm \nBaywalk East\n1 Beachway \nFree Admission and Parking \n 
URL:https://keansburgnj.gov/keansburg-event/taste-spring-food-truck-craft-beer-fest-may-18/
LOCATION:Baywalk East\, 1 Beachway\, Keansburg\, NJ\, 07734\, United States
CATEGORIES:Recreation Committee
END:VEVENT
BEGIN:VEVENT
DTSTART;TZID=America/New_York:20180925T110000
DTEND;TZID=America/New_York:20180925T150000
DTSTAMP:20260424T203728
CREATED:20180727T000223Z
LAST-MODIFIED:20180727T000223Z
UID:2115-1537873200-1537887600@keansburgnj.gov
SUMMARY:Farmer's Market
DESCRIPTION:Come join us for our 2nd annual Farmers Market. This is a seasonal open air market offering fresh\, locally-grown produce from New Jersey farmers as well as crafts\, local restaurants and music. \nMarket Location: 1 Beachway Ave\, Corner of Beachway and Main St. \nParking: All parking is free \nNow Accepting Vendors – Call Michele at 732-787-0215 x212.
URL:https://keansburgnj.gov/keansburg-event/farmers-market-18/
LOCATION:NJ
CATEGORIES:Recreation Committee
END:VEVENT
BEGIN:VEVENT
DTSTART;TZID=America/New_York:20180911T110000
DTEND;TZID=America/New_York:20180911T150000
DTSTAMP:20260424T203728
CREATED:20180726T235918Z
LAST-MODIFIED:20180727T000016Z
UID:2111-1536663600-1536678000@keansburgnj.gov
SUMMARY:Farmer's Market
DESCRIPTION:Come join us for our 2nd annual Farmers Market. This is a seasonal open air market offering fresh\, locally-grown produce from New Jersey farmers as well as crafts\, local restaurants and music. \nMarket Location: 1 Beachway Ave\, Corner of Beachway and Main St. \nParking: All parking is free \nNow Accepting Vendors – Call Michele at 732-787-0215 x212.
URL:https://keansburgnj.gov/keansburg-event/farmers-market-16/
LOCATION:NJ
CATEGORIES:Recreation Committee
END:VEVENT
BEGIN:VEVENT
DTSTART;TZID=America/New_York:20180904T110000
DTEND;TZID=America/New_York:20180904T150000
DTSTAMP:20260424T203728
CREATED:20180726T235838Z
LAST-MODIFIED:20180726T235838Z
UID:2109-1536058800-1536073200@keansburgnj.gov
SUMMARY:Farmer's Market
DESCRIPTION:Come join us for our 2nd annual Farmers Market. This is a seasonal open air market offering fresh\, locally-grown produce from New Jersey farmers as well as crafts\, local restaurants and music. \nMarket Location: 1 Beachway Ave\, Corner of Beachway and Main St. \nParking: All parking is free \nNow Accepting Vendors – Call Michele at 732-787-0215 x212.
URL:https://keansburgnj.gov/keansburg-event/farmers-market-15/
LOCATION:NJ
CATEGORIES:Recreation Committee
END:VEVENT
BEGIN:VEVENT
DTSTART;TZID=America/New_York:20180828T110000
DTEND;TZID=America/New_York:20180828T150000
DTSTAMP:20260424T203728
CREATED:20180726T235739Z
LAST-MODIFIED:20180726T235739Z
UID:2107-1535454000-1535468400@keansburgnj.gov
SUMMARY:Farmer's Market
DESCRIPTION:Come join us for our 2nd annual Farmers Market. This is a seasonal open air market offering fresh\, locally-grown produce from New Jersey farmers as well as crafts\, local restaurants and music. \nMarket Location: 1 Beachway Ave\, Corner of Beachway and Main St. \nParking: All parking is free \nNow Accepting Vendors – Call Michele at 732-787-0215 x212.
URL:https://keansburgnj.gov/keansburg-event/farmers-market-14/
LOCATION:NJ
CATEGORIES:Recreation Committee
END:VEVENT
BEGIN:VEVENT
DTSTART;TZID=America/New_York:20180814T110000
DTEND;TZID=America/New_York:20180814T150000
DTSTAMP:20260424T203728
CREATED:20180726T235454Z
LAST-MODIFIED:20180726T235454Z
UID:2103-1534244400-1534258800@keansburgnj.gov
SUMMARY:Farmer's Market
DESCRIPTION:Come join us for our 2nd annual Farmers Market. This is a seasonal open air market offering fresh\, locally-grown produce from New Jersey farmers as well as crafts\, local restaurants and music. \nMarket Location: 1 Beachway Ave\, Corner of Beachway and Main St. \nParking: All parking is free \nNow Accepting Vendors – Call Michele at 732-787-0215 x212.
URL:https://keansburgnj.gov/keansburg-event/farmers-market-12/
LOCATION:NJ
CATEGORIES:Recreation Committee
END:VEVENT
BEGIN:VEVENT
DTSTART;TZID=America/New_York:20180717T150000
DTEND;TZID=America/New_York:20180717T170000
DTSTAMP:20260424T203728
CREATED:20180525T232239Z
LAST-MODIFIED:20180525T232239Z
UID:2014-1531839600-1531846800@keansburgnj.gov
SUMMARY:Movies on the Beach - at dusk
DESCRIPTION:
URL:https://keansburgnj.gov/keansburg-event/movies-beach-dusk/
LOCATION:NJ
CATEGORIES:Recreation Committee
END:VEVENT
BEGIN:VEVENT
DTSTART;TZID=America/New_York:20180118T140000
DTEND;TZID=America/New_York:20180118T160000
DTSTAMP:20260424T203728
CREATED:20171212T213302Z
LAST-MODIFIED:20171212T213302Z
UID:1896-1516284000-1516291200@keansburgnj.gov
SUMMARY:Recreation Committee Meeting
DESCRIPTION:
URL:https://keansburgnj.gov/keansburg-event/recreation-committee-meeting-12/
LOCATION:Keansburg Borough Hall\, 29 Church Street\, Keansburg\, NJ\, 07734\, United States
CATEGORIES:Recreation Committee
END:VEVENT
BEGIN:VEVENT
DTSTART;TZID=America/New_York:20170825T150000
DTEND;TZID=America/New_York:20170825T170000
DTSTAMP:20260424T203728
CREATED:20190719T192759Z
LAST-MODIFIED:20190509T011305Z
UID:1745-1503673200-1503680400@keansburgnj.gov
SUMMARY:2019 Summer Concert Series
DESCRIPTION:Keansburg Concert Series 2017 \nat Baywalk East- bring a chair or blanket \nFriday’s @ 7pm \nJuly 7th -Â The Kickback Band\nJuly 21st – City Hicks\nJuly 28th – Almost Journey\nAugust 4th- Jimmy Shoez & The Magooz\nAugust 11th – Underpressure\nAugust 18th – Guns4Hire\nAugust 25th – The Kootz \nMore information at TheNewKeansburgRecreation on Facebook
URL:https://keansburgnj.gov/keansburg-event/summer-concert-series-11/
LOCATION:NJ
CATEGORIES:Recreation Committee
END:VEVENT
END:VCALENDAR